BEGIN:VCALENDAR
VERSION:2.0
PRODID:HAZ Events
BEGIN:VEVENT
UID:
DTSTAMP:1776786159
SUMMARY:Warten auf die Zeit
LOCATION:B&uuml;rgerschule Stadtteilzentrum Nordstadt
CLASS:PUBLIC
DTSTART:20260508T170000Z
DTEND:20260508T190000Z
END:VEVENT
END:VCALENDAR