BEGIN:VCALENDAR
VERSION:2.0
PRODID:HAZ Events
BEGIN:VEVENT
UID:
DTSTAMP:1776767731
SUMMARY:Warten auf die Zeit
LOCATION:B&uuml;rgerschule Stadtteilzentrum Nordstadt
CLASS:PUBLIC
DTSTART:20260509T170000Z
DTEND:20260509T190000Z
END:VEVENT
END:VCALENDAR