BEGIN:VCALENDAR
VERSION:2.0
PRODID:HAZ Events
BEGIN:VEVENT
UID:
DTSTAMP:1776776091
SUMMARY:26. Hannoversche Pflanzentage
LOCATION:
CLASS:PUBLIC
DTSTART:20260509T080000Z
DTEND:20260509T150000Z
END:VEVENT
END:VCALENDAR