BEGIN:VCALENDAR
VERSION:2.0
PRODID:HAZ Events
BEGIN:VEVENT
UID:
DTSTAMP:1776791278
SUMMARY:Einweihungsfest
LOCATION:
CLASS:PUBLIC
DTSTART:20260508T130000Z
DTEND:20260508T160000Z
END:VEVENT
END:VCALENDAR