BEGIN:VCALENDAR
VERSION:2.0
PRODID:HAZ Events
BEGIN:VEVENT
UID:
DTSTAMP:1776805178
SUMMARY:43. Maik&auml;fertreffen
LOCATION:
CLASS:PUBLIC
DTSTART:20260501T070000Z
DTEND:20260501T150000Z
END:VEVENT
END:VCALENDAR