BEGIN:VCALENDAR
VERSION:2.0
PRODID:HAZ Events
BEGIN:VEVENT
UID:
DTSTAMP:1776771690
SUMMARY:Quartiersfest Kronsrode
LOCATION:
CLASS:PUBLIC
DTSTART:20260509T130000Z
DTEND:20260509T200000Z
END:VEVENT
END:VCALENDAR