BEGIN:VCALENDAR
VERSION:2.0
PRODID:HAZ Events
BEGIN:VEVENT
UID:
DTSTAMP:1776805151
SUMMARY:Irish Music Session
LOCATION:
CLASS:PUBLIC
DTSTART:20260514T173000Z
DTEND:20260514T193000Z
END:VEVENT
END:VCALENDAR