BEGIN:VCALENDAR
VERSION:2.0
PRODID:HAZ Events
BEGIN:VEVENT
UID:
DTSTAMP:1776821568
SUMMARY:Table Quiz auf Englisch und Deutsch
LOCATION:
CLASS:PUBLIC
DTSTART:20260520T173000Z
DTEND:20260520T193000Z
END:VEVENT
END:VCALENDAR