BEGIN:VCALENDAR
VERSION:2.0
PRODID:HAZ Events
BEGIN:VEVENT
UID:
DTSTAMP:1776780954
SUMMARY:Jack Daniels Friday
LOCATION:
CLASS:PUBLIC
DTSTART:20260508T190000Z
DTEND:20260508T210000Z
END:VEVENT
END:VCALENDAR