BEGIN:VCALENDAR
VERSION:2.0
PRODID:HAZ Events
BEGIN:VEVENT
UID:
DTSTAMP:1776786023
SUMMARY:Stadtteilf&uuml;hrung Linden
LOCATION:TAK - Die Kabarett-B&uuml;hne
CLASS:PUBLIC
DTSTART:20260508T150000Z
DTEND:20260508T170000Z
END:VEVENT
END:VCALENDAR