BEGIN:VCALENDAR
VERSION:2.0
PRODID:HAZ Events
BEGIN:VEVENT
UID:
DTSTAMP:1776840867
SUMMARY:Stadtteilf&uuml;hrung Nordstadt
LOCATION:Christuskirche
CLASS:PUBLIC
DTSTART:20260501T150000Z
DTEND:20260501T170000Z
END:VEVENT
END:VCALENDAR