BEGIN:VCALENDAR
VERSION:2.0
PRODID:HAZ Events
BEGIN:VEVENT
UID:
DTSTAMP:1776776093
SUMMARY:F&uuml;hrung durch den Berggarten
LOCATION:Berggarten
CLASS:PUBLIC
DTSTART:20260509T083000Z
DTEND:20260509T103000Z
END:VEVENT
END:VCALENDAR