BEGIN:VCALENDAR
VERSION:2.0
PRODID:HAZ Events
BEGIN:VEVENT
UID:
DTSTAMP:1776776175
SUMMARY:Hanno(ver)nascht S&uuml;dstadt
LOCATION:
CLASS:PUBLIC
DTSTART:20260509T090000Z
DTEND:20260509T110000Z
END:VEVENT
END:VCALENDAR