BEGIN:VCALENDAR
VERSION:2.0
PRODID:HAZ Events
BEGIN:VEVENT
UID:
DTSTAMP:1776840835
SUMMARY:Bingo
LOCATION:Shakespeare
CLASS:PUBLIC
DTSTART:20260501T200000Z
DTEND:20260501T220000Z
END:VEVENT
END:VCALENDAR