BEGIN:VCALENDAR
VERSION:2.0
PRODID:HAZ Events
BEGIN:VEVENT
UID:
DTSTAMP:1776829787
SUMMARY:The American Folk Revival
LOCATION:H&ouml;lderlin Eins
CLASS:PUBLIC
DTSTART:20260505T180000Z
DTEND:20260505T200000Z
END:VEVENT
END:VCALENDAR