BEGIN:VCALENDAR
VERSION:2.0
PRODID:HAZ Events
BEGIN:VEVENT
UID:
DTSTAMP:1776859236
SUMMARY:24. Internationale A-cappella-Woche:&nbsp;Abschlusskonzert
LOCATION:Hannover Congress Centrum
CLASS:PUBLIC
DTSTART:20260503T170000Z
DTEND:20260503T190000Z
END:VEVENT
END:VCALENDAR