BEGIN:VCALENDAR
VERSION:2.0
PRODID:HAZ Events
BEGIN:VEVENT
UID:
DTSTAMP:1776840820
SUMMARY:24. Internationale A-cappella-Woche:&nbsp;New York Voices
LOCATION:Theater am Aegi
CLASS:PUBLIC
DTSTART:20260501T180000Z
DTEND:20260501T200000Z
END:VEVENT
END:VCALENDAR