BEGIN:VCALENDAR
VERSION:2.0
PRODID:HAZ Events
BEGIN:VEVENT
UID:
DTSTAMP:1776805086
SUMMARY:Feierabendspaziergang
LOCATION:Stadtteilzentrum Ricklingen
CLASS:PUBLIC
DTSTART:20260507T150000Z
DTEND:20260507T170000Z
END:VEVENT
END:VCALENDAR