BEGIN:VCALENDAR
VERSION:2.0
PRODID:HAZ Events
BEGIN:VEVENT
UID:
DTSTAMP:1776775950
SUMMARY:Schnupperpaddeln f&uuml;r Jedermann
LOCATION:
CLASS:PUBLIC
DTSTART:20260605T153000Z
DTEND:20260605T173000Z
END:VEVENT
END:VCALENDAR