BEGIN:VCALENDAR
VERSION:2.0
PRODID:HAZ Events
BEGIN:VEVENT
UID:
DTSTAMP:1776775952
SUMMARY:Schnupperpaddeln f&uuml;r Jedermann
LOCATION:
CLASS:PUBLIC
DTSTART:20260704T123000Z
DTEND:20260704T143000Z
END:VEVENT
END:VCALENDAR