BEGIN:VCALENDAR
VERSION:2.0
PRODID:HAZ Events
BEGIN:VEVENT
UID:
DTSTAMP:1776840735
SUMMARY:Megamarsch Hannover
LOCATION:
CLASS:PUBLIC
DTSTART:20260502T053000Z
DTEND:20260502T073000Z
END:VEVENT
END:VCALENDAR