BEGIN:VCALENDAR
VERSION:2.0
PRODID:HAZ Events
BEGIN:VEVENT
UID:
DTSTAMP:1776821613
SUMMARY:Hannover 96 II &ndash; Kickers Emden
LOCATION:Eilenriedestadion
CLASS:PUBLIC
DTSTART:20260506T160000Z
DTEND:20260506T180000Z
END:VEVENT
END:VCALENDAR