BEGIN:VCALENDAR
VERSION:2.0
PRODID:HAZ Events
BEGIN:VEVENT
UID:
DTSTAMP:1776835308
SUMMARY:Hannover 96 II &ndash; Werder Bremen II
LOCATION:Eilenriedestadion
CLASS:PUBLIC
DTSTART:20260502T110000Z
DTEND:20260502T130000Z
END:VEVENT
END:VCALENDAR