BEGIN:VCALENDAR
VERSION:2.0
PRODID:HAZ Events
BEGIN:VEVENT
UID:
DTSTAMP:1776934556
SUMMARY:Electro Symphony
LOCATION:Swiss Life Hall
CLASS:PUBLIC
DTSTART:20260515T173000Z
DTEND:20260515T193000Z
END:VEVENT
END:VCALENDAR