BEGIN:VCALENDAR
VERSION:2.0
PRODID:HAZ Events
BEGIN:VEVENT
UID:
DTSTAMP:1776781064
SUMMARY:Duo Estate: Charlie Chaplin&rsquo;s The Circus. Stummfilm mit Live-Musikbegleitung
LOCATION:Hinterb&uuml;hne
CLASS:PUBLIC
DTSTART:20260508T180000Z
DTEND:20260508T200000Z
END:VEVENT
END:VCALENDAR