BEGIN:VCALENDAR
VERSION:2.0
PRODID:HAZ Events
BEGIN:VEVENT
UID:
DTSTAMP:1776767690
SUMMARY:Kino im Freien
LOCATION:
CLASS:PUBLIC
DTSTART:20260509T160000Z
DTEND:20260509T180000Z
END:VEVENT
END:VCALENDAR