BEGIN:VCALENDAR
VERSION:2.0
PRODID:HAZ Events
BEGIN:VEVENT
UID:
DTSTAMP:1776864131
SUMMARY:Seniorenfr&uuml;hst&uuml;ck
LOCATION:
CLASS:PUBLIC
DTSTART:20260430T073000Z
DTEND:20260430T093000Z
END:VEVENT
END:VCALENDAR