BEGIN:VCALENDAR
VERSION:2.0
PRODID:HAZ Events
BEGIN:VEVENT
UID:
DTSTAMP:1776846430
SUMMARY:Aufstellen des Maibaums
LOCATION:
CLASS:PUBLIC
DTSTART:20260501T090000Z
DTEND:20260501T110000Z
END:VEVENT
END:VCALENDAR