BEGIN:VCALENDAR
VERSION:2.0
PRODID:HAZ Events
BEGIN:VEVENT
UID:
DTSTAMP:1776767677
SUMMARY:HSC Hannover &ndash; Hannover 96 II
LOCATION:HSC Hannover
CLASS:PUBLIC
DTSTART:20260509T140000Z
DTEND:20260509T160000Z
END:VEVENT
END:VCALENDAR