BEGIN:VCALENDAR
VERSION:2.0
PRODID:HAZ Events
BEGIN:VEVENT
UID:
DTSTAMP:1776829887
SUMMARY:Offenes Treffen des Friedensb&uuml;ros
LOCATION:
CLASS:PUBLIC
DTSTART:20260505T170000Z
DTEND:20260505T190000Z
END:VEVENT
END:VCALENDAR