BEGIN:VCALENDAR
VERSION:2.0
PRODID:HAZ Events
BEGIN:VEVENT
UID:
DTSTAMP:1776829775
SUMMARY:Kleefeld unverpackt
LOCATION:H&ouml;lderlin Eins
CLASS:PUBLIC
DTSTART:20260505T173000Z
DTEND:20260505T193000Z
END:VEVENT
END:VCALENDAR