BEGIN:VCALENDAR
VERSION:2.0
PRODID:HAZ Events
BEGIN:VEVENT
UID:
DTSTAMP:1776800212
SUMMARY:Spieleabend
LOCATION:H&ouml;lderlin Eins
CLASS:PUBLIC
DTSTART:20260507T170000Z
DTEND:20260507T200000Z
END:VEVENT
END:VCALENDAR