BEGIN:VCALENDAR
VERSION:2.0
PRODID:HAZ Events
BEGIN:VEVENT
UID:
DTSTAMP:1776781030
SUMMARY:Drew Portnoy
LOCATION:daunst&auml;rs
CLASS:PUBLIC
DTSTART:20260508T180000Z
DTEND:20260508T200000Z
END:VEVENT
END:VCALENDAR