BEGIN:VCALENDAR
VERSION:2.0
PRODID:HAZ Events
BEGIN:VEVENT
UID:
DTSTAMP:1776796043
SUMMARY:Hans-Hermann Thielke
LOCATION:daunst&auml;rs
CLASS:PUBLIC
DTSTART:20260507T180000Z
DTEND:20260507T200000Z
END:VEVENT
END:VCALENDAR