BEGIN:VCALENDAR
VERSION:2.0
PRODID:HAZ Events
BEGIN:VEVENT
UID:
DTSTAMP:1776786086
SUMMARY:Fremd die Heimat
LOCATION:Theater in der List
CLASS:PUBLIC
DTSTART:20260531T150000Z
DTEND:20260531T170000Z
END:VEVENT
END:VCALENDAR