BEGIN:VCALENDAR
VERSION:2.0
PRODID:HAZ Events
BEGIN:VEVENT
UID:
DTSTAMP:1776780902
SUMMARY:Meer im Blick &ndash; eine Ausstellung zur Artenvielfalt am Steinhuder Meer
LOCATION:
CLASS:PUBLIC
DTSTART:20260717T110000Z
DTEND:20260717T140000Z
END:VEVENT
END:VCALENDAR