BEGIN:VCALENDAR
VERSION:2.0
PRODID:HAZ Events
BEGIN:VEVENT
UID:
DTSTAMP:1776759058
SUMMARY:Alte Musik zur Monatsmitte
LOCATION:
CLASS:PUBLIC
DTSTART:20260515T173000Z
DTEND:20260515T193000Z
END:VEVENT
END:VCALENDAR