BEGIN:VCALENDAR
VERSION:2.0
PRODID:HAZ Events
BEGIN:VEVENT
UID:
DTSTAMP:1776791199
SUMMARY:Popul&auml;re Musik und Demokratie
LOCATION:
CLASS:PUBLIC
DTSTART:20260508T100000Z
DTEND:20260508T120000Z
END:VEVENT
END:VCALENDAR