BEGIN:VCALENDAR
VERSION:2.0
PRODID:HAZ Events
BEGIN:VEVENT
UID:
DTSTAMP:1776759023
SUMMARY:Liv Solveig
LOCATION:Feinkost Lampe
CLASS:PUBLIC
DTSTART:20260514T190000Z
DTEND:20260514T210000Z
END:VEVENT
END:VCALENDAR