BEGIN:VCALENDAR
VERSION:2.0
PRODID:HAZ Events
BEGIN:VEVENT
UID:
DTSTAMP:1776829853
SUMMARY:Salonlauschen
LOCATION:Feinkost Lampe
CLASS:PUBLIC
DTSTART:20260505T180000Z
DTEND:20260505T200000Z
END:VEVENT
END:VCALENDAR