BEGIN:VCALENDAR
VERSION:2.0
PRODID:HAZ Events
BEGIN:VEVENT
UID:
DTSTAMP:1776840834
SUMMARY:Ich h&ouml;re was, das du nicht siehst
LOCATION:
CLASS:PUBLIC
DTSTART:20260523T080000Z
DTEND:20260523T100000Z
END:VEVENT
END:VCALENDAR