BEGIN:VCALENDAR
VERSION:2.0
PRODID:HAZ Events
BEGIN:VEVENT
UID:
DTSTAMP:1776781062
SUMMARY:Matthias Egersd&ouml;rfer
LOCATION:TAK - Die Kabarett-B&uuml;hne
CLASS:PUBLIC
DTSTART:20260508T180000Z
DTEND:20260508T200000Z
END:VEVENT
END:VCALENDAR