BEGIN:VCALENDAR
VERSION:2.0
PRODID:HAZ Events
BEGIN:VEVENT
UID:
DTSTAMP:1776763504
SUMMARY:Stefan Danziger
LOCATION:TAK - Die Kabarett-B&uuml;hne
CLASS:PUBLIC
DTSTART:20260509T180000Z
DTEND:20260509T200000Z
END:VEVENT
END:VCALENDAR