BEGIN:VCALENDAR
VERSION:2.0
PRODID:HAZ Events
BEGIN:VEVENT
UID:
DTSTAMP:1776934214
SUMMARY:Cosimo Erario
LOCATION:
CLASS:PUBLIC
DTSTART:20260515T170000Z
DTEND:20260515T190000Z
END:VEVENT
END:VCALENDAR