BEGIN:VCALENDAR
VERSION:2.0
PRODID:HAZ Events
BEGIN:VEVENT
UID:
DTSTAMP:1776858545
SUMMARY:Wasserdialog
LOCATION:Haus der Region
CLASS:PUBLIC
DTSTART:20260430T113000Z
DTEND:20260430T143000Z
END:VEVENT
END:VCALENDAR