BEGIN:VCALENDAR
VERSION:2.0
PRODID:HAZ Events
BEGIN:VEVENT
UID:
DTSTAMP:1776859278
SUMMARY:Familienkonzert: &bdquo;So bin ich&ldquo; mit dem Ensemble Sozusingen
LOCATION:
CLASS:PUBLIC
DTSTART:20260426T140000Z
DTEND:20260426T160000Z
END:VEVENT
END:VCALENDAR