BEGIN:VCALENDAR
VERSION:2.0
PRODID:HAZ Events
BEGIN:VEVENT
UID:
DTSTAMP:1776864094
SUMMARY:Ausbildungsfr&uuml;hst&uuml;ck
LOCATION:
CLASS:PUBLIC
DTSTART:20260430T061500Z
DTEND:20260430T081500Z
END:VEVENT
END:VCALENDAR