BEGIN:VCALENDAR
VERSION:2.0
PRODID:HAZ Events
BEGIN:VEVENT
UID:
DTSTAMP:1776869445
SUMMARY:Postfossile Freiheit. Warum Demokratie, Umweltschutz, Wohlstand und Frieden nur gemeinsam gelingen
LOCATION:
CLASS:PUBLIC
DTSTART:20260429T170000Z
DTEND:20260429T190000Z
END:VEVENT
END:VCALENDAR