BEGIN:VCALENDAR
VERSION:2.0
PRODID:HAZ Events
BEGIN:VEVENT
UID:
DTSTAMP:1776771839
SUMMARY:Gemeinsam statt einsam
LOCATION:
CLASS:PUBLIC
DTSTART:20260720T093000Z
DTEND:20260720T110000Z
END:VEVENT
END:VCALENDAR