BEGIN:VCALENDAR
VERSION:2.0
PRODID:HAZ Events
BEGIN:VEVENT
UID:
DTSTAMP:1776848572
SUMMARY:Bigger Bashment
LOCATION:Faust Mephisto
CLASS:PUBLIC
DTSTART:20260530T210000Z
DTEND:20260530T230000Z
END:VEVENT
END:VCALENDAR